BEGIN:VCALENDAR
VERSION:2.0
PRODID:-//Date iCal//NONSGML kigkonsult.se iCalcreator 2.20.2//
METHOD:PUBLISH
BEGIN:VEVENT
UID:calendar.9176.field_event_time@edit.acquia.catnmsplan.com
DTSTAMP:20260423T113102Z
DESCRIPTION:\n\n\n\n
DTSTART;VALUE=DATE:20260423T130000Z
DTEND;VALUE=DATE:20260423T211500Z
SUMMARY:Monthly CAT Update Newsletter: April 2026
URL;TYPE=URI:https://catnmsplan.com/events/monthly-cat-update-newsletter-april-2026
END:VEVENT
END:VCALENDAR